BEGIN:VCALENDAR
VERSION:2.0
PRODID:-//Pryor Sounds - ECPv6.15.20//NONSGML v1.0//EN
CALSCALE:GREGORIAN
METHOD:PUBLISH
X-WR-CALNAME:Pryor Sounds
X-ORIGINAL-URL:https://www.pryorsounds.com
X-WR-CALDESC:Events for Pryor Sounds
REFRESH-INTERVAL;VALUE=DURATION:PT1H
X-Robots-Tag:noindex
X-PUBLISHED-TTL:PT1H
BEGIN:VTIMEZONE
TZID:America/New_York
BEGIN:DAYLIGHT
TZOFFSETFROM:-0500
TZOFFSETTO:-0400
TZNAME:EDT
DTSTART:20240310T070000
END:DAYLIGHT
BEGIN:STANDARD
TZOFFSETFROM:-0400
TZOFFSETTO:-0500
TZNAME:EST
DTSTART:20241103T060000
END:STANDARD
BEGIN:DAYLIGHT
TZOFFSETFROM:-0500
TZOFFSETTO:-0400
TZNAME:EDT
DTSTART:20250309T070000
END:DAYLIGHT
BEGIN:STANDARD
TZOFFSETFROM:-0400
TZOFFSETTO:-0500
TZNAME:EST
DTSTART:20251102T060000
END:STANDARD
BEGIN:DAYLIGHT
TZOFFSETFROM:-0500
TZOFFSETTO:-0400
TZNAME:EDT
DTSTART:20260308T070000
END:DAYLIGHT
BEGIN:STANDARD
TZOFFSETFROM:-0400
TZOFFSETTO:-0500
TZNAME:EST
DTSTART:20261101T060000
END:STANDARD
END:VTIMEZONE
BEGIN:VEVENT
DTSTART;TZID=America/New_York:20251107T130000
DTEND;TZID=America/New_York:20251107T180000
DTSTAMP:20260421T211843
CREATED:20251031T182443Z
LAST-MODIFIED:20251031T182443Z
UID:964-1762520400-1762538400@www.pryorsounds.com
SUMMARY:Disney’s Animal Kingdom - Harambe Village Africa - Burudika Band
DESCRIPTION:Reggie is playing live with the Burudika Band. \nThis exuberant band will have you singing along to their tunes. Then\, get ready to dance along as the performers show you some moves. “Burudika” is Swahili for “to be refreshed”—so go ahead and refresh yourself! \nTimes (Eastern Daylight Time): \n\nAfternoon\n\n\n\n1:10 PM\, 2:10 PM\,  3:10 PM\,  4:10 PM\n\n\n\n\n\nEvening\n\n\n\n5:10 PM
URL:https://www.pryorsounds.com/event/disneys-animal-kingdom-harambe-village-africa-burudika-band-22/
LOCATION:Disney’s Animal Kingdom Theme Park – Harambe Village Africa\, 2901 Osceola Pkwy\, Orlando\, FL\, 32830\, United States
CATEGORIES:Live Shows
END:VEVENT
BEGIN:VEVENT
DTSTART;TZID=America/New_York:20251103T130000
DTEND;TZID=America/New_York:20251103T180000
DTSTAMP:20260421T211843
CREATED:20251031T182318Z
LAST-MODIFIED:20251031T182318Z
UID:962-1762174800-1762192800@www.pryorsounds.com
SUMMARY:Disney’s Animal Kingdom - Harambe Village Africa - Burudika Band
DESCRIPTION:Reggie is playing live with the Burudika Band. \nThis exuberant band will have you singing along to their tunes. Then\, get ready to dance along as the performers show you some moves. “Burudika” is Swahili for “to be refreshed”—so go ahead and refresh yourself! \nTimes (Eastern Daylight Time): \n\nAfternoon\n\n\n\n1:10 PM\, 2:10 PM\,  3:10 PM\,  4:10 PM\n\n\n\n\n\nEvening\n\n\n\n5:10 PM
URL:https://www.pryorsounds.com/event/disneys-animal-kingdom-harambe-village-africa-burudika-band-21/
LOCATION:Disney’s Animal Kingdom Theme Park – Harambe Village Africa\, 2901 Osceola Pkwy\, Orlando\, FL\, 32830\, United States
CATEGORIES:Live Shows
END:VEVENT
BEGIN:VEVENT
DTSTART;TZID=America/New_York:20251102T130000
DTEND;TZID=America/New_York:20251102T180000
DTSTAMP:20260421T211843
CREATED:20251031T182133Z
LAST-MODIFIED:20251031T182133Z
UID:960-1762088400-1762106400@www.pryorsounds.com
SUMMARY:Disney’s Animal Kingdom - Harambe Village Africa - Burudika Band
DESCRIPTION:Reggie is playing live with the Burudika Band. \nThis exuberant band will have you singing along to their tunes. Then\, get ready to dance along as the performers show you some moves. “Burudika” is Swahili for “to be refreshed”—so go ahead and refresh yourself! \nTimes (Eastern Daylight Time): \n\nAfternoon\n\n\n\n1:10 PM\, 2:10 PM\,  3:10 PM\,  4:10 PM\n\n\n\n\n\nEvening\n\n\n\n5:10 PM
URL:https://www.pryorsounds.com/event/disneys-animal-kingdom-harambe-village-africa-burudika-band-20/
LOCATION:Disney’s Animal Kingdom Theme Park – Harambe Village Africa\, 2901 Osceola Pkwy\, Orlando\, FL\, 32830\, United States
CATEGORIES:Live Shows
END:VEVENT
BEGIN:VEVENT
DTSTART;TZID=America/New_York:20251101T130000
DTEND;TZID=America/New_York:20251101T180000
DTSTAMP:20260421T211843
CREATED:20251031T182014Z
LAST-MODIFIED:20251031T182014Z
UID:958-1762002000-1762020000@www.pryorsounds.com
SUMMARY:Disney’s Animal Kingdom - Harambe Village Africa - Burudika Band
DESCRIPTION:Reggie is playing live with the Burudika Band. \nThis exuberant band will have you singing along to their tunes. Then\, get ready to dance along as the performers show you some moves. “Burudika” is Swahili for “to be refreshed”—so go ahead and refresh yourself! \nTimes (Eastern Daylight Time): \n\nAfternoon\n\n\n\n1:10 PM\, 2:10 PM\,  3:10 PM\,  4:10 PM\n\n\n\n\n\nEvening\n\n\n\n5:10 PM
URL:https://www.pryorsounds.com/event/disneys-animal-kingdom-harambe-village-africa-burudika-band-19/
LOCATION:Disney’s Animal Kingdom Theme Park – Harambe Village Africa\, 2901 Osceola Pkwy\, Orlando\, FL\, 32830\, United States
CATEGORIES:Live Shows
END:VEVENT
BEGIN:VEVENT
DTSTART;TZID=America/New_York:20251025T130000
DTEND;TZID=America/New_York:20251025T180000
DTSTAMP:20260421T211843
CREATED:20250929T150010Z
LAST-MODIFIED:20250929T150010Z
UID:955-1761397200-1761415200@www.pryorsounds.com
SUMMARY:Disney’s Animal Kingdom - Harambe Village Africa - Burudika Band
DESCRIPTION:Reggie is playing live with the Burudika Band. \nThis exuberant band will have you singing along to their tunes. Then\, get ready to dance along as the performers show you some moves. “Burudika” is Swahili for “to be refreshed”—so go ahead and refresh yourself! \nTimes (Eastern Daylight Time): \n\nAfternoon\n\n\n\n1:10 PM\, 2:10 PM\,  3:10 PM\,  4:10 PM\n\n\n\n\n\nEvening\n\n\n\n5:10 PM
URL:https://www.pryorsounds.com/event/disneys-animal-kingdom-harambe-village-africa-burudika-band-18/
LOCATION:Disney’s Animal Kingdom Theme Park – Harambe Village Africa\, 2901 Osceola Pkwy\, Orlando\, FL\, 32830\, United States
CATEGORIES:Live Shows
END:VEVENT
BEGIN:VEVENT
DTSTART;TZID=America/New_York:20251020T130000
DTEND;TZID=America/New_York:20251020T180000
DTSTAMP:20260421T211843
CREATED:20250929T145917Z
LAST-MODIFIED:20250929T145917Z
UID:953-1760965200-1760983200@www.pryorsounds.com
SUMMARY:Disney’s Animal Kingdom - Harambe Village Africa - Burudika Band
DESCRIPTION:Reggie is playing live with the Burudika Band. \nThis exuberant band will have you singing along to their tunes. Then\, get ready to dance along as the performers show you some moves. “Burudika” is Swahili for “to be refreshed”—so go ahead and refresh yourself! \nTimes (Eastern Daylight Time): \n\nAfternoon\n\n\n\n1:10 PM\, 2:10 PM\,  3:10 PM\,  4:10 PM\n\n\n\n\n\nEvening\n\n\n\n5:10 PM
URL:https://www.pryorsounds.com/event/disneys-animal-kingdom-harambe-village-africa-burudika-band-17/
LOCATION:Disney’s Animal Kingdom Theme Park – Harambe Village Africa\, 2901 Osceola Pkwy\, Orlando\, FL\, 32830\, United States
CATEGORIES:Live Shows
END:VEVENT
BEGIN:VEVENT
DTSTART;TZID=America/New_York:20251019T130000
DTEND;TZID=America/New_York:20251019T180000
DTSTAMP:20260421T211843
CREATED:20250929T145803Z
LAST-MODIFIED:20250929T145803Z
UID:951-1760878800-1760896800@www.pryorsounds.com
SUMMARY:Disney’s Animal Kingdom - Harambe Village Africa - Burudika Band
DESCRIPTION:Reggie is playing live with the Burudika Band. \nThis exuberant band will have you singing along to their tunes. Then\, get ready to dance along as the performers show you some moves. “Burudika” is Swahili for “to be refreshed”—so go ahead and refresh yourself! \nTimes (Eastern Daylight Time): \n\nAfternoon\n\n\n\n1:10 PM\, 2:10 PM\,  3:10 PM\,  4:10 PM\n\n\n\n\n\nEvening\n\n\n\n5:10 PM
URL:https://www.pryorsounds.com/event/disneys-animal-kingdom-harambe-village-africa-burudika-band-16/
LOCATION:Disney’s Animal Kingdom Theme Park – Harambe Village Africa\, 2901 Osceola Pkwy\, Orlando\, FL\, 32830\, United States
CATEGORIES:Live Shows
END:VEVENT
BEGIN:VEVENT
DTSTART;TZID=America/New_York:20251018T130000
DTEND;TZID=America/New_York:20251018T180000
DTSTAMP:20260421T211843
CREATED:20250929T145607Z
LAST-MODIFIED:20250929T145607Z
UID:949-1760792400-1760810400@www.pryorsounds.com
SUMMARY:Disney’s Animal Kingdom - Harambe Village Africa - Burudika Band
DESCRIPTION:Reggie is playing live with the Burudika Band. \nThis exuberant band will have you singing along to their tunes. Then\, get ready to dance along as the performers show you some moves. “Burudika” is Swahili for “to be refreshed”—so go ahead and refresh yourself! \nTimes (Eastern Daylight Time): \n\nAfternoon\n\n\n\n1:10 PM\, 2:10 PM\,  3:10 PM\,  4:10 PM\n\n\n\n\n\nEvening\n\n\n\n5:10 PM
URL:https://www.pryorsounds.com/event/disneys-animal-kingdom-harambe-village-africa-burudika-band-15/
LOCATION:Disney’s Animal Kingdom Theme Park – Harambe Village Africa\, 2901 Osceola Pkwy\, Orlando\, FL\, 32830\, United States
CATEGORIES:Live Shows
END:VEVENT
BEGIN:VEVENT
DTSTART;TZID=America/New_York:20251017T130000
DTEND;TZID=America/New_York:20251017T180000
DTSTAMP:20260421T211843
CREATED:20250929T145453Z
LAST-MODIFIED:20250929T145453Z
UID:947-1760706000-1760724000@www.pryorsounds.com
SUMMARY:Disney’s Animal Kingdom - Harambe Village Africa - Burudika Band
DESCRIPTION:Reggie is playing live with the Burudika Band. \nThis exuberant band will have you singing along to their tunes. Then\, get ready to dance along as the performers show you some moves. “Burudika” is Swahili for “to be refreshed”—so go ahead and refresh yourself! \nTimes (Eastern Daylight Time): \n\nAfternoon\n\n\n\n1:10 PM\, 2:10 PM\,  3:10 PM\,  4:10 PM\n\n\n\n\n\nEvening\n\n\n\n5:10 PM
URL:https://www.pryorsounds.com/event/disneys-animal-kingdom-harambe-village-africa-burudika-band-14/
LOCATION:Disney’s Animal Kingdom Theme Park – Harambe Village Africa\, 2901 Osceola Pkwy\, Orlando\, FL\, 32830\, United States
CATEGORIES:Live Shows
END:VEVENT
BEGIN:VEVENT
DTSTART;TZID=America/New_York:20251013T130000
DTEND;TZID=America/New_York:20251013T180000
DTSTAMP:20260421T211843
CREATED:20250929T145255Z
LAST-MODIFIED:20250929T150413Z
UID:945-1760360400-1760378400@www.pryorsounds.com
SUMMARY:Disney’s Animal Kingdom - Harambe Village Africa - Burudika Band
DESCRIPTION:Reggie is playing live with the Burudika Band. \nThis exuberant band will have you singing along to their tunes. Then\, get ready to dance along as the performers show you some moves. “Burudika” is Swahili for “to be refreshed”—so go ahead and refresh yourself! \nTimes (Eastern Daylight Time): \n\nAfternoon\n\n\n\n1:10 PM\, 2:10 PM\,  3:10 PM\,  4:10 PM\n\n\n\n\n\nEvening\n\n\n\n5:10 PM
URL:https://www.pryorsounds.com/event/disneys-animal-kingdom-harambe-village-africa-burudika-band-13/
LOCATION:Disney’s Animal Kingdom Theme Park – Harambe Village Africa\, 2901 Osceola Pkwy\, Orlando\, FL\, 32830\, United States
CATEGORIES:Live Shows
END:VEVENT
BEGIN:VEVENT
DTSTART;TZID=America/New_York:20251012T130000
DTEND;TZID=America/New_York:20251012T180000
DTSTAMP:20260421T211843
CREATED:20250929T145153Z
LAST-MODIFIED:20250929T150351Z
UID:943-1760274000-1760292000@www.pryorsounds.com
SUMMARY:Disney’s Animal Kingdom - Harambe Village Africa - Burudika Band
DESCRIPTION:Reggie is playing live with the Burudika Band. \nThis exuberant band will have you singing along to their tunes. Then\, get ready to dance along as the performers show you some moves. “Burudika” is Swahili for “to be refreshed”—so go ahead and refresh yourself! \nTimes (Eastern Daylight Time): \n\nAfternoon\n\n\n\n1:10 PM\, 2:10 PM\,  3:10 PM\,  4:10 PM\n\n\n\n\n\nEvening\n\n\n\n5:10 PM
URL:https://www.pryorsounds.com/event/disneys-animal-kingdom-harambe-village-africa-burudika-band-12/
LOCATION:Disney’s Animal Kingdom Theme Park – Harambe Village Africa\, 2901 Osceola Pkwy\, Orlando\, FL\, 32830\, United States
CATEGORIES:Live Shows
END:VEVENT
BEGIN:VEVENT
DTSTART;TZID=America/New_York:20251011T130000
DTEND;TZID=America/New_York:20251011T180000
DTSTAMP:20260421T211843
CREATED:20250929T145047Z
LAST-MODIFIED:20250929T150326Z
UID:941-1760187600-1760205600@www.pryorsounds.com
SUMMARY:Disney’s Animal Kingdom - Harambe Village Africa - Burudika Band
DESCRIPTION:Reggie is playing live with the Burudika Band. \nThis exuberant band will have you singing along to their tunes. Then\, get ready to dance along as the performers show you some moves. “Burudika” is Swahili for “to be refreshed”—so go ahead and refresh yourself! \nTimes (Eastern Daylight Time): \n\nAfternoon\n\n\n\n1:10 PM\, 2:10 PM\,  3:10 PM\,  4:10 PM\n\n\n\n\n\nEvening\n\n\n\n5:10 PM
URL:https://www.pryorsounds.com/event/disneys-animal-kingdom-harambe-village-africa-burudika-band-11/
LOCATION:Disney’s Animal Kingdom Theme Park – Harambe Village Africa\, 2901 Osceola Pkwy\, Orlando\, FL\, 32830\, United States
CATEGORIES:Live Shows
END:VEVENT
BEGIN:VEVENT
DTSTART;TZID=America/New_York:20251010T130000
DTEND;TZID=America/New_York:20251010T180000
DTSTAMP:20260421T211843
CREATED:20250929T144904Z
LAST-MODIFIED:20250929T150300Z
UID:939-1760101200-1760119200@www.pryorsounds.com
SUMMARY:Disney’s Animal Kingdom - Harambe Village Africa - Burudika Band
DESCRIPTION:Reggie is playing live with the Burudika Band. \nThis exuberant band will have you singing along to their tunes. Then\, get ready to dance along as the performers show you some moves. “Burudika” is Swahili for “to be refreshed”—so go ahead and refresh yourself! \nTimes (Eastern Daylight Time): \n\nAfternoon\n\n\n\n1:10 PM\, 2:10 PM\,  3:10 PM\,  4:10 PM\n\n\n\n\n\nEvening\n\n\n\n5:10 PM
URL:https://www.pryorsounds.com/event/disneys-animal-kingdom-harambe-village-africa-burudika-band-10/
LOCATION:Disney’s Animal Kingdom Theme Park – Harambe Village Africa\, 2901 Osceola Pkwy\, Orlando\, FL\, 32830\, United States
CATEGORIES:Live Shows
END:VEVENT
BEGIN:VEVENT
DTSTART;TZID=America/New_York:20251006T130000
DTEND;TZID=America/New_York:20251006T180000
DTSTAMP:20260421T211843
CREATED:20250929T144727Z
LAST-MODIFIED:20250929T150229Z
UID:937-1759755600-1759773600@www.pryorsounds.com
SUMMARY:Disney’s Animal Kingdom - Harambe Village Africa - Burudika Band
DESCRIPTION:Reggie is playing live with the Burudika Band. \nThis exuberant band will have you singing along to their tunes. Then\, get ready to dance along as the performers show you some moves. “Burudika” is Swahili for “to be refreshed”—so go ahead and refresh yourself! \nTimes (Eastern Daylight Time): \n\nAfternoon\n\n\n\n1:10 PM\, 2:10 PM\,  3:10 PM\,  4:10 PM\n\n\n\n\n\nEvening\n\n\n\n5:10 PM
URL:https://www.pryorsounds.com/event/disneys-animal-kingdom-harambe-village-africa-burudika-band-9/
LOCATION:Disney’s Animal Kingdom Theme Park – Harambe Village Africa\, 2901 Osceola Pkwy\, Orlando\, FL\, 32830\, United States
CATEGORIES:Live Shows
END:VEVENT
BEGIN:VEVENT
DTSTART;TZID=America/New_York:20251005T130000
DTEND;TZID=America/New_York:20251005T180000
DTSTAMP:20260421T211843
CREATED:20250929T144619Z
LAST-MODIFIED:20250929T150157Z
UID:935-1759669200-1759687200@www.pryorsounds.com
SUMMARY:Disney’s Animal Kingdom - Harambe Village Africa - Burudika Band
DESCRIPTION:Reggie is playing live with the Burudika Band. \nThis exuberant band will have you singing along to their tunes. Then\, get ready to dance along as the performers show you some moves. “Burudika” is Swahili for “to be refreshed”—so go ahead and refresh yourself! \nTimes (Eastern Daylight Time): \n\nAfternoon\n\n\n\n1:10 PM\, 2:10 PM\,  3:10 PM\,  4:10 PM\n\n\n\n\n\nEvening\n\n\n\n5:10 PM
URL:https://www.pryorsounds.com/event/disneys-animal-kingdom-harambe-village-africa-burudika-band-8/
LOCATION:Disney’s Animal Kingdom Theme Park – Harambe Village Africa\, 2901 Osceola Pkwy\, Orlando\, FL\, 32830\, United States
CATEGORIES:Live Shows
END:VEVENT
BEGIN:VEVENT
DTSTART;TZID=America/New_York:20251004T130000
DTEND;TZID=America/New_York:20251004T170000
DTSTAMP:20260421T211843
CREATED:20250929T144443Z
LAST-MODIFIED:20250929T150130Z
UID:933-1759582800-1759597200@www.pryorsounds.com
SUMMARY:Disney’s Animal Kingdom - Harambe Village Africa - Burudika Band
DESCRIPTION:Reggie is playing live with the Burudika Band. \nThis exuberant band will have you singing along to their tunes. Then\, get ready to dance along as the performers show you some moves. “Burudika” is Swahili for “to be refreshed”—so go ahead and refresh yourself! \nTimes (Eastern Daylight Time): \n\nAfternoon\n\n\n\n1:10 PM\, 2:10 PM\,  3:10 PM\,  4:10 PM\n\n\n\n\n\nEvening\n\n\n\n5:10 PM
URL:https://www.pryorsounds.com/event/disneys-animal-kingdom-harambe-village-africa-burudika-band-7/
LOCATION:Disney’s Animal Kingdom Theme Park – Harambe Village Africa\, 2901 Osceola Pkwy\, Orlando\, FL\, 32830\, United States
CATEGORIES:Live Shows
END:VEVENT
BEGIN:VEVENT
DTSTART;TZID=America/New_York:20251003T130000
DTEND;TZID=America/New_York:20251003T170000
DTSTAMP:20260421T211843
CREATED:20250929T144349Z
LAST-MODIFIED:20250929T150059Z
UID:931-1759496400-1759510800@www.pryorsounds.com
SUMMARY:Disney’s Animal Kingdom - Harambe Village Africa - Burudika Band
DESCRIPTION:Reggie is playing live with the Burudika Band. \nThis exuberant band will have you singing along to their tunes. Then\, get ready to dance along as the performers show you some moves. “Burudika” is Swahili for “to be refreshed”—so go ahead and refresh yourself! \nTimes (Eastern Daylight Time): \n\nAfternoon\n\n\n\n1:10 PM\, 2:10 PM\,  3:10 PM\,  4:10 PM\n\n\n\n\n\nEvening\n\n\n\n5:10 PM
URL:https://www.pryorsounds.com/event/disneys-animal-kingdom-harambe-village-africa-burudika-band-6/
LOCATION:Disney’s Animal Kingdom Theme Park – Harambe Village Africa\, 2901 Osceola Pkwy\, Orlando\, FL\, 32830\, United States
CATEGORIES:Live Shows
END:VEVENT
BEGIN:VEVENT
DTSTART;TZID=America/New_York:20250925T130000
DTEND;TZID=America/New_York:20250925T180000
DTSTAMP:20260421T211843
CREATED:20250906T152651Z
LAST-MODIFIED:20250906T152651Z
UID:925-1758805200-1758823200@www.pryorsounds.com
SUMMARY:Disney’s Animal Kingdom - Harambe Village Africa - Burudika Band
DESCRIPTION:Reggie is playing live with the Burudika Band. \nThis exuberant band will have you singing along to their tunes. Then\, get ready to dance along as the performers show you some moves. “Burudika” is Swahili for “to be refreshed”—so go ahead and refresh yourself! \nTimes (Eastern Daylight Time): \n\nAfternoon\n\n\n\n1:10 PM\, 2:10 PM\,  3:10 PM\,  4:10 PM\n\n\n\n\n\nEvening\n\n\n\n5:10 PM
URL:https://www.pryorsounds.com/event/disneys-animal-kingdom-harambe-village-africa-burudika-band-5/
LOCATION:Disney’s Animal Kingdom Theme Park – Harambe Village Africa\, 2901 Osceola Pkwy\, Orlando\, FL\, 32830\, United States
CATEGORIES:Live Shows
END:VEVENT
BEGIN:VEVENT
DTSTART;TZID=America/New_York:20250922T130000
DTEND;TZID=America/New_York:20250922T180000
DTSTAMP:20260421T211843
CREATED:20250906T152505Z
LAST-MODIFIED:20250906T152505Z
UID:923-1758546000-1758564000@www.pryorsounds.com
SUMMARY:Disney’s Animal Kingdom - Harambe Village Africa - Burudika Band
DESCRIPTION:Reggie is playing live with the Burudika Band. \nThis exuberant band will have you singing along to their tunes. Then\, get ready to dance along as the performers show you some moves. “Burudika” is Swahili for “to be refreshed”—so go ahead and refresh yourself! \nTimes (Eastern Daylight Time): \n\nAfternoon\n\n\n\n1:10 PM\, 2:10 PM\,  3:10 PM\,  4:10 PM\n\n\n\n\n\nEvening\n\n\n\n5:10 PM
URL:https://www.pryorsounds.com/event/disneys-animal-kingdom-harambe-village-africa-burudika-band-4/
LOCATION:Disney’s Animal Kingdom Theme Park – Harambe Village Africa\, 2901 Osceola Pkwy\, Orlando\, FL\, 32830\, United States
CATEGORIES:Live Shows
END:VEVENT
BEGIN:VEVENT
DTSTART;TZID=America/New_York:20250920T130000
DTEND;TZID=America/New_York:20250920T180000
DTSTAMP:20260421T211843
CREATED:20250906T151957Z
LAST-MODIFIED:20250906T151957Z
UID:921-1758373200-1758391200@www.pryorsounds.com
SUMMARY:Disney’s Animal Kingdom - Harambe Village Africa - Burudika Band
DESCRIPTION:Reggie is playing live with the Burudika Band. \nThis exuberant band will have you singing along to their tunes. Then\, get ready to dance along as the performers show you some moves. “Burudika” is Swahili for “to be refreshed”—so go ahead and refresh yourself! \nTimes (Eastern Daylight Time): \n\nAfternoon\n\n\n\n1:10 PM\, 2:10 PM\,  3:10 PM\,  4:10 PM\n\n\n\n\n\nEvening\n\n\n\n5:10 PM
URL:https://www.pryorsounds.com/event/disneys-animal-kingdom-harambe-village-africa-burudika-band-3/
LOCATION:Disney’s Animal Kingdom Theme Park – Harambe Village Africa\, 2901 Osceola Pkwy\, Orlando\, FL\, 32830\, United States
CATEGORIES:Live Shows
END:VEVENT
BEGIN:VEVENT
DTSTART;TZID=America/New_York:20250915T130000
DTEND;TZID=America/New_York:20250915T180000
DTSTAMP:20260421T211843
CREATED:20250906T151806Z
LAST-MODIFIED:20250906T151806Z
UID:919-1757941200-1757959200@www.pryorsounds.com
SUMMARY:Disney’s Animal Kingdom - Harambe Village Africa - Burudika Band
DESCRIPTION:Reggie is playing live with the Burudika Band. \nThis exuberant band will have you singing along to their tunes. Then\, get ready to dance along as the performers show you some moves. “Burudika” is Swahili for “to be refreshed”—so go ahead and refresh yourself! \nTimes (Eastern Daylight Time): \n\nAfternoon\n\n\n\n1:10 PM\, 2:10 PM\,  3:10 PM\,  4:10 PM\n\n\n\n\n\nEvening\n\n\n\n5:10 PM
URL:https://www.pryorsounds.com/event/disneys-animal-kingdom-harambe-village-africa-burudika-band-2/
LOCATION:Disney’s Animal Kingdom Theme Park – Harambe Village Africa\, 2901 Osceola Pkwy\, Orlando\, FL\, 32830\, United States
CATEGORIES:Live Shows
END:VEVENT
BEGIN:VEVENT
DTSTART;TZID=America/New_York:20250914T080000
DTEND;TZID=America/New_York:20250914T170000
DTSTAMP:20260421T211843
CREATED:20250814T201803Z
LAST-MODIFIED:20250814T201803Z
UID:902-1757836800-1757869200@www.pryorsounds.com
SUMMARY:Disney Springs Waterside Stage - Wassalou Band
DESCRIPTION:Reggie is playing live at Disney Springs Waterside Stage\, an open-air venue along Lake Buena Vista\, with the Wassalou Band. \nTimes to be announced.
URL:https://www.pryorsounds.com/event/disney-springs-waterside-stage-wassalou-band/
LOCATION:Disney Springs Waterside Stage\, 1780 N Buena Vista Dr\, Orlando\, 32836\, United States
CATEGORIES:Live Shows
END:VEVENT
BEGIN:VEVENT
DTSTART;TZID=America/New_York:20250908T130000
DTEND;TZID=America/New_York:20250908T180000
DTSTAMP:20260421T211843
CREATED:20250906T151510Z
LAST-MODIFIED:20250906T151510Z
UID:917-1757336400-1757354400@www.pryorsounds.com
SUMMARY:Disney’s Animal Kingdom - Harambe Village Africa – Burudika Band
DESCRIPTION:Reggie is playing live with the Burudika Band. \nThis exuberant band will have you singing along to their tunes. Then\, get ready to dance along as the performers show you some moves. “Burudika” is Swahili for “to be refreshed”—so go ahead and refresh yourself! \nTimes (Eastern Daylight Time): \n\nAfternoon\n\n\n\n1:10 PM\, 2:10 PM\,  3:10 PM\,  4:10 PM\n\n\n\n\n\nEvening\n\n\n\n5:10 PM
URL:https://www.pryorsounds.com/event/disneys-animal-kingdom-harambe-village-africa-burudika-band/
LOCATION:Disney’s Animal Kingdom Theme Park – Harambe Village Africa\, 2901 Osceola Pkwy\, Orlando\, FL\, 32830\, United States
CATEGORIES:Live Shows
END:VEVENT
BEGIN:VEVENT
DTSTART;TZID=America/New_York:20250830T130000
DTEND;TZID=America/New_York:20250830T180000
DTSTAMP:20260421T211843
CREATED:20250814T201133Z
LAST-MODIFIED:20250814T201133Z
UID:900-1756558800-1756576800@www.pryorsounds.com
SUMMARY:Harambe Village Africa – Burudika Band
DESCRIPTION:Reggie is playing live with the Burudika Band. \nThis exuberant band will have you singing along to their tunes. Then\, get ready to dance along as the performers show you some moves. “Burudika” is Swahili for “to be refreshed”—so go ahead and refresh yourself! \nTimes (Eastern Daylight Time): \n\nAfternoon\n\n\n\n1:10 PM\, 2:10 PM\,  3:10 PM\,  4:10 PM\n\n\n\n\n\nEvening\n\n\n\n5:10 PM
URL:https://www.pryorsounds.com/event/harambe-village-africa-burudika-band-5/
LOCATION:Disney’s Animal Kingdom Theme Park – Harambe Village Africa\, 2901 Osceola Pkwy\, Orlando\, FL\, 32830\, United States
CATEGORIES:Live Shows
END:VEVENT
BEGIN:VEVENT
DTSTART;TZID=America/New_York:20250829T130000
DTEND;TZID=America/New_York:20250829T180000
DTSTAMP:20260421T211843
CREATED:20250814T201004Z
LAST-MODIFIED:20250814T201004Z
UID:898-1756472400-1756490400@www.pryorsounds.com
SUMMARY:Harambe Village Africa – Burudika Band
DESCRIPTION:Reggie is playing live with the Burudika Band. \nThis exuberant band will have you singing along to their tunes. Then\, get ready to dance along as the performers show you some moves. “Burudika” is Swahili for “to be refreshed”—so go ahead and refresh yourself! \nTimes (Eastern Daylight Time): \n\nAfternoon\n\n\n\n1:10 PM\, 2:10 PM\,  3:10 PM\,  4:10 PM\n\n\n\n\n\nEvening\n\n\n\n5:10 PM
URL:https://www.pryorsounds.com/event/harambe-village-africa-burudika-band-4/
LOCATION:FL
CATEGORIES:Live Shows
END:VEVENT
BEGIN:VEVENT
DTSTART;TZID=America/New_York:20250818T130000
DTEND;TZID=America/New_York:20250818T180000
DTSTAMP:20260421T211843
CREATED:20250814T200712Z
LAST-MODIFIED:20250814T201826Z
UID:896-1755522000-1755540000@www.pryorsounds.com
SUMMARY:Harambe Village Africa – Burudika Band
DESCRIPTION:Reggie is playing live with the Burudika Band. \nThis exuberant band will have you singing along to their tunes. Then\, get ready to dance along as the performers show you some moves. “Burudika” is Swahili for “to be refreshed”—so go ahead and refresh yourself! \nTimes (Eastern Daylight Time): \n\nAfternoon\n\n\n\n1:10 PM\, 2:10 PM\,  3:10 PM\,  4:10 PM\n\n\n\n\n\nEvening\n\n\n\n5:10 PM
URL:https://www.pryorsounds.com/event/harambe-village-africa-burudika-band-3/
LOCATION:Disney’s Animal Kingdom Theme Park – Harambe Village Africa\, 2901 Osceola Pkwy\, Orlando\, FL\, 32830\, United States
CATEGORIES:Live Shows
END:VEVENT
BEGIN:VEVENT
DTSTART;TZID=America/New_York:20250817T130000
DTEND;TZID=America/New_York:20250817T180000
DTSTAMP:20260421T211843
CREATED:20250814T200602Z
LAST-MODIFIED:20250814T201835Z
UID:894-1755435600-1755453600@www.pryorsounds.com
SUMMARY:Harambe Village Africa – Burudika Band.
DESCRIPTION:Reggie is playing live with the Burudika Band. \nThis exuberant band will have you singing along to their tunes. Then\, get ready to dance along as the performers show you some moves. “Burudika” is Swahili for “to be refreshed”—so go ahead and refresh yourself! \nTimes (Eastern Daylight Time): \n\nAfternoon\n\n\n\n1:10 PM\, 2:10 PM\,  3:10 PM\,  4:10 PM\n\n\n\n\n\nEvening\n\n\n\n5:10 PM
URL:https://www.pryorsounds.com/event/harambe-village-africa-burudika-band-2/
LOCATION:Disney’s Animal Kingdom Theme Park – Harambe Village Africa\, 2901 Osceola Pkwy\, Orlando\, FL\, 32830\, United States
CATEGORIES:Live Shows
END:VEVENT
BEGIN:VEVENT
DTSTART;TZID=America/New_York:20250815T130000
DTEND;TZID=America/New_York:20250815T180000
DTSTAMP:20260421T211843
CREATED:20250814T195431Z
LAST-MODIFIED:20250814T195556Z
UID:890-1755262800-1755280800@www.pryorsounds.com
SUMMARY:Harambe Village Africa – Burudika Band
DESCRIPTION:Reggie is playing live with the Burudika Band. \nThis exuberant band will have you singing along to their tunes. Then\, get ready to dance along as the performers show you some moves. “Burudika” is Swahili for “to be refreshed”—so go ahead and refresh yourself! \nTimes (Eastern Daylight Time): \n\nAfternoon\n\n\n\n1:10 PM\, 2:10 PM\,  3:10 PM\,  4:10 PM\n\n\n\n\n\nEvening\n\n\n\n5:10 PM
URL:https://www.pryorsounds.com/event/harambe-village-africa-burudika-band/
LOCATION:Disney’s Animal Kingdom Theme Park – Harambe Village Africa\, 2901 Osceola Pkwy\, Orlando\, FL\, 32830\, United States
CATEGORIES:Live Shows
END:VEVENT
END:VCALENDAR