BEGIN:VCALENDAR
VERSION:2.0
PRODID:-//Pryor Sounds - ECPv6.15.20//NONSGML v1.0//EN
CALSCALE:GREGORIAN
METHOD:PUBLISH
X-ORIGINAL-URL:https://www.pryorsounds.com
X-WR-CALDESC:Events for Pryor Sounds
REFRESH-INTERVAL;VALUE=DURATION:PT1H
X-Robots-Tag:noindex
X-PUBLISHED-TTL:PT1H
BEGIN:VTIMEZONE
TZID:America/New_York
BEGIN:DAYLIGHT
TZOFFSETFROM:-0500
TZOFFSETTO:-0400
TZNAME:EDT
DTSTART:20240310T070000
END:DAYLIGHT
BEGIN:STANDARD
TZOFFSETFROM:-0400
TZOFFSETTO:-0500
TZNAME:EST
DTSTART:20241103T060000
END:STANDARD
BEGIN:DAYLIGHT
TZOFFSETFROM:-0500
TZOFFSETTO:-0400
TZNAME:EDT
DTSTART:20250309T070000
END:DAYLIGHT
BEGIN:STANDARD
TZOFFSETFROM:-0400
TZOFFSETTO:-0500
TZNAME:EST
DTSTART:20251102T060000
END:STANDARD
BEGIN:DAYLIGHT
TZOFFSETFROM:-0500
TZOFFSETTO:-0400
TZNAME:EDT
DTSTART:20260308T070000
END:DAYLIGHT
BEGIN:STANDARD
TZOFFSETFROM:-0400
TZOFFSETTO:-0500
TZNAME:EST
DTSTART:20261101T060000
END:STANDARD
END:VTIMEZONE
BEGIN:VEVENT
DTSTART;TZID=America/New_York:20251101T130000
DTEND;TZID=America/New_York:20251101T180000
DTSTAMP:20260419T214902
CREATED:20251031T182014Z
LAST-MODIFIED:20251031T182014Z
UID:958-1762002000-1762020000@www.pryorsounds.com
SUMMARY:Disney’s Animal Kingdom - Harambe Village Africa - Burudika Band
DESCRIPTION:Reggie is playing live with the Burudika Band. \nThis exuberant band will have you singing along to their tunes. Then\, get ready to dance along as the performers show you some moves. “Burudika” is Swahili for “to be refreshed”—so go ahead and refresh yourself! \nTimes (Eastern Daylight Time): \n\nAfternoon\n\n\n\n1:10 PM\, 2:10 PM\,  3:10 PM\,  4:10 PM\n\n\n\n\n\nEvening\n\n\n\n5:10 PM
URL:https://www.pryorsounds.com/event/disneys-animal-kingdom-harambe-village-africa-burudika-band-19/
LOCATION:Disney’s Animal Kingdom Theme Park – Harambe Village Africa\, 2901 Osceola Pkwy\, Orlando\, FL\, 32830\, United States
CATEGORIES:Live Shows
END:VEVENT
BEGIN:VEVENT
DTSTART;TZID=America/New_York:20251102T130000
DTEND;TZID=America/New_York:20251102T180000
DTSTAMP:20260419T214902
CREATED:20251031T182133Z
LAST-MODIFIED:20251031T182133Z
UID:960-1762088400-1762106400@www.pryorsounds.com
SUMMARY:Disney’s Animal Kingdom - Harambe Village Africa - Burudika Band
DESCRIPTION:Reggie is playing live with the Burudika Band. \nThis exuberant band will have you singing along to their tunes. Then\, get ready to dance along as the performers show you some moves. “Burudika” is Swahili for “to be refreshed”—so go ahead and refresh yourself! \nTimes (Eastern Daylight Time): \n\nAfternoon\n\n\n\n1:10 PM\, 2:10 PM\,  3:10 PM\,  4:10 PM\n\n\n\n\n\nEvening\n\n\n\n5:10 PM
URL:https://www.pryorsounds.com/event/disneys-animal-kingdom-harambe-village-africa-burudika-band-20/
LOCATION:Disney’s Animal Kingdom Theme Park – Harambe Village Africa\, 2901 Osceola Pkwy\, Orlando\, FL\, 32830\, United States
CATEGORIES:Live Shows
END:VEVENT
BEGIN:VEVENT
DTSTART;TZID=America/New_York:20251103T130000
DTEND;TZID=America/New_York:20251103T180000
DTSTAMP:20260419T214902
CREATED:20251031T182318Z
LAST-MODIFIED:20251031T182318Z
UID:962-1762174800-1762192800@www.pryorsounds.com
SUMMARY:Disney’s Animal Kingdom - Harambe Village Africa - Burudika Band
DESCRIPTION:Reggie is playing live with the Burudika Band. \nThis exuberant band will have you singing along to their tunes. Then\, get ready to dance along as the performers show you some moves. “Burudika” is Swahili for “to be refreshed”—so go ahead and refresh yourself! \nTimes (Eastern Daylight Time): \n\nAfternoon\n\n\n\n1:10 PM\, 2:10 PM\,  3:10 PM\,  4:10 PM\n\n\n\n\n\nEvening\n\n\n\n5:10 PM
URL:https://www.pryorsounds.com/event/disneys-animal-kingdom-harambe-village-africa-burudika-band-21/
LOCATION:Disney’s Animal Kingdom Theme Park – Harambe Village Africa\, 2901 Osceola Pkwy\, Orlando\, FL\, 32830\, United States
CATEGORIES:Live Shows
END:VEVENT
BEGIN:VEVENT
DTSTART;TZID=America/New_York:20251107T130000
DTEND;TZID=America/New_York:20251107T180000
DTSTAMP:20260419T214902
CREATED:20251031T182443Z
LAST-MODIFIED:20251031T182443Z
UID:964-1762520400-1762538400@www.pryorsounds.com
SUMMARY:Disney’s Animal Kingdom - Harambe Village Africa - Burudika Band
DESCRIPTION:Reggie is playing live with the Burudika Band. \nThis exuberant band will have you singing along to their tunes. Then\, get ready to dance along as the performers show you some moves. “Burudika” is Swahili for “to be refreshed”—so go ahead and refresh yourself! \nTimes (Eastern Daylight Time): \n\nAfternoon\n\n\n\n1:10 PM\, 2:10 PM\,  3:10 PM\,  4:10 PM\n\n\n\n\n\nEvening\n\n\n\n5:10 PM
URL:https://www.pryorsounds.com/event/disneys-animal-kingdom-harambe-village-africa-burudika-band-22/
LOCATION:Disney’s Animal Kingdom Theme Park – Harambe Village Africa\, 2901 Osceola Pkwy\, Orlando\, FL\, 32830\, United States
CATEGORIES:Live Shows
END:VEVENT
BEGIN:VEVENT
DTSTART;TZID=America/New_York:20251108T130000
DTEND;TZID=America/New_York:20251108T180000
DTSTAMP:20260419T214902
CREATED:20251031T182633Z
LAST-MODIFIED:20251031T182633Z
UID:966-1762606800-1762624800@www.pryorsounds.com
SUMMARY:Disney’s Animal Kingdom - Harambe Village Africa - Burudika Band
DESCRIPTION:Reggie is playing live with the Burudika Band. \nThis exuberant band will have you singing along to their tunes. Then\, get ready to dance along as the performers show you some moves. “Burudika” is Swahili for “to be refreshed”—so go ahead and refresh yourself! \nTimes (Eastern Daylight Time): \n\nAfternoon\n\n\n\n1:10 PM\, 2:10 PM\,  3:10 PM\,  4:10 PM\n\n\n\n\n\nEvening\n\n\n\n5:10 PM
URL:https://www.pryorsounds.com/event/disneys-animal-kingdom-harambe-village-africa-burudika-band-23/
LOCATION:Disney’s Animal Kingdom Theme Park – Harambe Village Africa\, 2901 Osceola Pkwy\, Orlando\, FL\, 32830\, United States
CATEGORIES:Live Shows
END:VEVENT
BEGIN:VEVENT
DTSTART;TZID=America/New_York:20251109T130000
DTEND;TZID=America/New_York:20251109T180000
DTSTAMP:20260419T214902
CREATED:20251031T182813Z
LAST-MODIFIED:20251031T182813Z
UID:968-1762693200-1762711200@www.pryorsounds.com
SUMMARY:Disney’s Animal Kingdom - Harambe Village Africa - Burudika Band
DESCRIPTION:Reggie is playing live with the Burudika Band. \nThis exuberant band will have you singing along to their tunes. Then\, get ready to dance along as the performers show you some moves. “Burudika” is Swahili for “to be refreshed”—so go ahead and refresh yourself! \nTimes (Eastern Daylight Time): \n\nAfternoon\n\n\n\n1:10 PM\, 2:10 PM\,  3:10 PM\,  4:10 PM\n\n\n\n\n\nEvening\n\n\n\n5:10 PM
URL:https://www.pryorsounds.com/event/disneys-animal-kingdom-harambe-village-africa-burudika-band-24/
LOCATION:Disney’s Animal Kingdom Theme Park – Harambe Village Africa\, 2901 Osceola Pkwy\, Orlando\, FL\, 32830\, United States
CATEGORIES:Live Shows
END:VEVENT
BEGIN:VEVENT
DTSTART;TZID=America/New_York:20251110T130000
DTEND;TZID=America/New_York:20251110T180000
DTSTAMP:20260419T214902
CREATED:20251031T182933Z
LAST-MODIFIED:20251031T182933Z
UID:970-1762779600-1762797600@www.pryorsounds.com
SUMMARY:Disney’s Animal Kingdom - Harambe Village Africa - Burudika Band
DESCRIPTION:Reggie is playing live with the Burudika Band. \nThis exuberant band will have you singing along to their tunes. Then\, get ready to dance along as the performers show you some moves. “Burudika” is Swahili for “to be refreshed”—so go ahead and refresh yourself! \nTimes (Eastern Daylight Time): \n\nAfternoon\n\n\n\n1:10 PM\, 2:10 PM\,  3:10 PM\,  4:10 PM\n\n\n\n\n\nEvening\n\n\n\n5:10 PM
URL:https://www.pryorsounds.com/event/disneys-animal-kingdom-harambe-village-africa-burudika-band-25/
LOCATION:Disney’s Animal Kingdom Theme Park – Harambe Village Africa\, 2901 Osceola Pkwy\, Orlando\, FL\, 32830\, United States
CATEGORIES:Live Shows
END:VEVENT
BEGIN:VEVENT
DTSTART;TZID=America/New_York:20251113T130000
DTEND;TZID=America/New_York:20251113T180000
DTSTAMP:20260419T214902
CREATED:20251031T183351Z
LAST-MODIFIED:20251031T183351Z
UID:972-1763038800-1763056800@www.pryorsounds.com
SUMMARY:Disney’s Animal Kingdom - Harambe Village Africa - Burudika Band
DESCRIPTION:Reggie is playing live with the Burudika Band. \nThis exuberant band will have you singing along to their tunes. Then\, get ready to dance along as the performers show you some moves. “Burudika” is Swahili for “to be refreshed”—so go ahead and refresh yourself! \nTimes (Eastern Daylight Time): \n\nAfternoon\n\n\n\n1:10 PM\, 2:10 PM\,  3:10 PM\,  4:10 PM\n\n\n\n\n\nEvening\n\n\n\n5:10 PM
URL:https://www.pryorsounds.com/event/disneys-animal-kingdom-harambe-village-africa-burudika-band-26/
LOCATION:Disney’s Animal Kingdom Theme Park – Harambe Village Africa\, 2901 Osceola Pkwy\, Orlando\, FL\, 32830\, United States
CATEGORIES:Live Shows
END:VEVENT
BEGIN:VEVENT
DTSTART;TZID=America/New_York:20251114T130000
DTEND;TZID=America/New_York:20251114T180000
DTSTAMP:20260419T214902
CREATED:20251031T184902Z
LAST-MODIFIED:20251031T184902Z
UID:974-1763125200-1763143200@www.pryorsounds.com
SUMMARY:Disney’s Animal Kingdom - Harambe Village Africa - Burudika Band
DESCRIPTION:Reggie is playing live with the Burudika Band. \nThis exuberant band will have you singing along to their tunes. Then\, get ready to dance along as the performers show you some moves. “Burudika” is Swahili for “to be refreshed”—so go ahead and refresh yourself! \nTimes (Eastern Daylight Time): \n\nAfternoon\n\n\n\n1:10 PM\, 2:10 PM\,  3:10 PM\,  4:10 PM\n\n\n\n\n\nEvening\n\n\n\n5:10 PM
URL:https://www.pryorsounds.com/event/disneys-animal-kingdom-harambe-village-africa-burudika-band-27/
LOCATION:Disney’s Animal Kingdom Theme Park – Harambe Village Africa\, 2901 Osceola Pkwy\, Orlando\, FL\, 32830\, United States
CATEGORIES:Live Shows
END:VEVENT
BEGIN:VEVENT
DTSTART;TZID=America/New_York:20251115T130000
DTEND;TZID=America/New_York:20251115T180000
DTSTAMP:20260419T214902
CREATED:20251031T190035Z
LAST-MODIFIED:20251031T190035Z
UID:976-1763211600-1763229600@www.pryorsounds.com
SUMMARY:Disney’s Animal Kingdom - Harambe Village Africa - Burudika Band
DESCRIPTION:Reggie is playing live with the Burudika Band. \nThis exuberant band will have you singing along to their tunes. Then\, get ready to dance along as the performers show you some moves. “Burudika” is Swahili for “to be refreshed”—so go ahead and refresh yourself! \nTimes (Eastern Daylight Time): \n\nAfternoon\n\n\n\n1:10 PM\, 2:10 PM\,  3:10 PM\,  4:10 PM\n\n\n\n\n\nEvening\n\n\n\n5:10 PM
URL:https://www.pryorsounds.com/event/disneys-animal-kingdom-harambe-village-africa-burudika-band-28/
LOCATION:Disney’s Animal Kingdom Theme Park – Harambe Village Africa\, 2901 Osceola Pkwy\, Orlando\, FL\, 32830\, United States
CATEGORIES:Live Shows
END:VEVENT
BEGIN:VEVENT
DTSTART;TZID=America/New_York:20251121T130000
DTEND;TZID=America/New_York:20251121T180000
DTSTAMP:20260419T214902
CREATED:20251121T154714Z
LAST-MODIFIED:20251121T154714Z
UID:979-1763730000-1763748000@www.pryorsounds.com
SUMMARY:Disney’s Animal Kingdom - Harambe Village Africa - Burudika Band
DESCRIPTION:Reggie is playing live with the Burudika Band. \nThis exuberant band will have you singing along to their tunes. Then\, get ready to dance along as the performers show you some moves. “Burudika” is Swahili for “to be refreshed”—so go ahead and refresh yourself! \nTimes (Eastern Daylight Time): \n\nAfternoon\n\n\n\n1:10 PM\, 2:10 PM\,  3:10 PM\,  4:10 PM\n\n\n\n\n\nEvening\n\n\n\n5:10 PM
URL:https://www.pryorsounds.com/event/disneys-animal-kingdom-harambe-village-africa-burudika-band-29/
LOCATION:Disney’s Animal Kingdom Theme Park – Harambe Village Africa\, 2901 Osceola Pkwy\, Orlando\, FL\, 32830\, United States
CATEGORIES:Live Shows
END:VEVENT
BEGIN:VEVENT
DTSTART;TZID=America/New_York:20251122T130000
DTEND;TZID=America/New_York:20251122T180000
DTSTAMP:20260419T214902
CREATED:20251121T154830Z
LAST-MODIFIED:20251121T154830Z
UID:981-1763816400-1763834400@www.pryorsounds.com
SUMMARY:Disney’s Animal Kingdom - Harambe Village Africa - Burudika Band
DESCRIPTION:Reggie is playing live with the Burudika Band. \nThis exuberant band will have you singing along to their tunes. Then\, get ready to dance along as the performers show you some moves. “Burudika” is Swahili for “to be refreshed”—so go ahead and refresh yourself! \nTimes (Eastern Daylight Time): \n\nAfternoon\n\n\n\n1:10 PM\, 2:10 PM\,  3:10 PM\,  4:10 PM\n\n\n\n\n\nEvening\n\n\n\n5:10 PM
URL:https://www.pryorsounds.com/event/disneys-animal-kingdom-harambe-village-africa-burudika-band-30/
LOCATION:Disney’s Animal Kingdom Theme Park – Harambe Village Africa\, 2901 Osceola Pkwy\, Orlando\, FL\, 32830\, United States
CATEGORIES:Live Shows
END:VEVENT
BEGIN:VEVENT
DTSTART;TZID=America/New_York:20251123T130000
DTEND;TZID=America/New_York:20251123T180000
DTSTAMP:20260419T214902
CREATED:20251121T154949Z
LAST-MODIFIED:20251121T154949Z
UID:983-1763902800-1763920800@www.pryorsounds.com
SUMMARY:Disney’s Animal Kingdom - Harambe Village Africa - Burudika Band
DESCRIPTION:Reggie is playing live with the Burudika Band. \nThis exuberant band will have you singing along to their tunes. Then\, get ready to dance along as the performers show you some moves. “Burudika” is Swahili for “to be refreshed”—so go ahead and refresh yourself! \nTimes (Eastern Daylight Time): \n\nAfternoon\n\n\n\n1:10 PM\, 2:10 PM\,  3:10 PM\,  4:10 PM\n\n\n\n\n\nEvening\n\n\n\n5:10 PM
URL:https://www.pryorsounds.com/event/disneys-animal-kingdom-harambe-village-africa-burudika-band-31/
LOCATION:Disney’s Animal Kingdom Theme Park – Harambe Village Africa\, 2901 Osceola Pkwy\, Orlando\, FL\, 32830\, United States
CATEGORIES:Live Shows
END:VEVENT
BEGIN:VEVENT
DTSTART;TZID=America/New_York:20251128T130000
DTEND;TZID=America/New_York:20251128T180000
DTSTAMP:20260419T214902
CREATED:20251121T155128Z
LAST-MODIFIED:20251121T155128Z
UID:985-1764334800-1764352800@www.pryorsounds.com
SUMMARY:Disney’s Animal Kingdom - Harambe Village Africa - Burudika Band
DESCRIPTION:Reggie is playing live with the Burudika Band. \nThis exuberant band will have you singing along to their tunes. Then\, get ready to dance along as the performers show you some moves. “Burudika” is Swahili for “to be refreshed”—so go ahead and refresh yourself! \nTimes (Eastern Daylight Time): \n\nAfternoon\n\n\n\n1:10 PM\, 2:10 PM\,  3:10 PM\,  4:10 PM\n\n\n\n\n\nEvening\n\n\n\n5:10 PM
URL:https://www.pryorsounds.com/event/disneys-animal-kingdom-harambe-village-africa-burudika-band-32/
LOCATION:Disney’s Animal Kingdom Theme Park – Harambe Village Africa\, 2901 Osceola Pkwy\, Orlando\, FL\, 32830\, United States
CATEGORIES:Live Shows
END:VEVENT
BEGIN:VEVENT
DTSTART;TZID=America/New_York:20251129T080000
DTEND;TZID=America/New_York:20251129T170000
DTSTAMP:20260419T214902
CREATED:20251121T155227Z
LAST-MODIFIED:20251121T155227Z
UID:987-1764403200-1764435600@www.pryorsounds.com
SUMMARY:Disney’s Animal Kingdom - Harambe Village Africa - Burudika Band
DESCRIPTION:Reggie is playing live with the Burudika Band. \nThis exuberant band will have you singing along to their tunes. Then\, get ready to dance along as the performers show you some moves. “Burudika” is Swahili for “to be refreshed”—so go ahead and refresh yourself! \nTimes (Eastern Daylight Time): \n\nAfternoon\n\n\n\n1:10 PM\, 2:10 PM\,  3:10 PM\,  4:10 PM\n\n\n\n\n\nEvening\n\n\n\n5:10 PM
URL:https://www.pryorsounds.com/event/disneys-animal-kingdom-harambe-village-africa-burudika-band-33/
LOCATION:Disney’s Animal Kingdom Theme Park – Harambe Village Africa\, 2901 Osceola Pkwy\, Orlando\, FL\, 32830\, United States
CATEGORIES:Live Shows
END:VEVENT
END:VCALENDAR